BEGIN:VCALENDAR
VERSION:2.0
PRODID:-//Cropredy Parish Council//Meeting Calendar//EN
CALSCALE:GREGORIAN
METHOD:PUBLISH
BEGIN:VEVENT
UID:72705-20260511@cropredyparishcouncil.gov.uk
DTSTAMP:20260421T142544Z
DTSTART;VALUE=DATE:20260511
DTEND;VALUE=DATE:20260512
SUMMARY:Parish Council Meeting May 2026
DESCRIPTION:Full Council Meeting\nView details: https://cropredyparishcouncil.gov.uk/meetings/meeting-name-here-4/
URL:https://cropredyparishcouncil.gov.uk/meetings/meeting-name-here-4/
END:VEVENT
END:VCALENDAR
